BEGIN:VCALENDAR
VERSION:2.0
PRODID:-//Shitokai Karate Nivelles - ECPv6.10.0//NONSGML v1.0//EN
CALSCALE:GREGORIAN
METHOD:PUBLISH
X-WR-CALNAME:Shitokai Karate Nivelles
X-ORIGINAL-URL:https://karate-nivelles.be
X-WR-CALDESC:Évènements pour Shitokai Karate Nivelles
REFRESH-INTERVAL;VALUE=DURATION:PT1H
X-Robots-Tag:noindex
X-PUBLISHED-TTL:PT1H
BEGIN:VTIMEZONE
TZID:UTC
BEGIN:STANDARD
TZOFFSETFROM:+0000
TZOFFSETTO:+0000
TZNAME:UTC
DTSTART:20260101T000000
END:STANDARD
END:VTIMEZONE
BEGIN:VEVENT
DTSTART;VALUE=DATE:20260116
DTEND;VALUE=DATE:20260119
DTSTAMP:20260420T193137
CREATED:20260110T101038Z
LAST-MODIFIED:20260110T101627Z
UID:4507-1768521600-1768780799@karate-nivelles.be
SUMMARY:STAGE SEI IWASA SENSEI - 9e dan SAIKO SHIHAN SHITO-RYU
DESCRIPTION:Vendredi 16/01/2026 – de 18h à 20h Hall sportif Athénée Royal (Avenue du Centenaire\, 34 à 1400 Nivelles).\nSamedi 17/01/2026 – de 10h à 13h Centre ADEPS Loverval (Allée des Sports 12 à 6280 Gerpinnes).\nDimanche 18/01/2026 – de 10h à 13h Hall Max Audain (Rue du Chapitre 3 à 7080 Frameries).
URL:https://karate-nivelles.be/evenements/stage-sei-iwasa-sensei-9e-dan-saiko-shihan-shito-ryu/
CATEGORIES:Stages
ATTACH;FMTTYPE=image/png:https://karate-nivelles.be/wp-content/uploads/2026/01/Stage-Iwasa.png
END:VEVENT
END:VCALENDAR